BEGIN:VCALENDAR
VERSION:2.0
PRODID:-//Library Market//iCal Export//EN
BEGIN:VEVENT
SUMMARY:May Market
UID:5598
DTSTAMP:20260423T224700Z
DTSTART:20260502T140000Z
DTEND:20260502T180000Z
LOCATION:Brentwood Library, 3501 Brownsville Rd., Pittsburgh, PA 15227, Un
 ited States
ROOM: Program Room
DESCRIPTION:Find unique gifts from local vendors at this wonderful market.
  Purchase handmade goods, crafts, and more! Come see what wonderful treasu
 res you can find!
URL:https://brentwoodlib.librarycalendar.com/event/may-market-5598
END:VEVENT
END:VCALENDAR
